BEGIN:VCALENDAR
VERSION:2.0
PRODID:-//RISE Montessori - ECPv6.6.3//NONSGML v1.0//EN
CALSCALE:GREGORIAN
METHOD:PUBLISH
X-ORIGINAL-URL:https://risemontessori.com
X-WR-CALDESC:Events for RISE Montessori
REFRESH-INTERVAL;VALUE=DURATION:PT1H
X-Robots-Tag:noindex
X-PUBLISHED-TTL:PT1H
BEGIN:VTIMEZONE
TZID:America/Los_Angeles
BEGIN:DAYLIGHT
TZOFFSETFROM:-0800
TZOFFSETTO:-0700
TZNAME:PDT
DTSTART:20240310T100000
END:DAYLIGHT
BEGIN:STANDARD
TZOFFSETFROM:-0700
TZOFFSETTO:-0800
TZNAME:PST
DTSTART:20241103T090000
END:STANDARD
END:VTIMEZONE
BEGIN:VEVENT
DTSTART;TZID=America/Los_Angeles:20241222T000000
DTEND;TZID=America/Los_Angeles:20241222T235959
DTSTAMP:20260420T025902
CREATED:20240903T140012Z
LAST-MODIFIED:20240903T140041Z
UID:527-1734825600-1734911999@risemontessori.com
SUMMARY:Birth of H Zahra/Mothers’ Day
DESCRIPTION:Birth of H Zahra/Mothers’ Day
URL:https://risemontessori.com/event/birth-of-h-zahra-mothers-day/
CATEGORIES:Religious
END:VEVENT
END:VCALENDAR