BEGIN:VCALENDAR
VERSION:2.0
PRODID:-//RISE Montessori - ECPv6.6.3//NONSGML v1.0//EN
CALSCALE:GREGORIAN
METHOD:PUBLISH
X-WR-CALNAME:RISE Montessori
X-ORIGINAL-URL:https://risemontessori.com
X-WR-CALDESC:Events for RISE Montessori
REFRESH-INTERVAL;VALUE=DURATION:PT1H
X-Robots-Tag:noindex
X-PUBLISHED-TTL:PT1H
BEGIN:VTIMEZONE
TZID:America/Los_Angeles
BEGIN:DAYLIGHT
TZOFFSETFROM:-0800
TZOFFSETTO:-0700
TZNAME:PDT
DTSTART:20240310T100000
END:DAYLIGHT
BEGIN:STANDARD
TZOFFSETFROM:-0700
TZOFFSETTO:-0800
TZNAME:PST
DTSTART:20241103T090000
END:STANDARD
END:VTIMEZONE
BEGIN:VEVENT
DTSTART;TZID=America/Los_Angeles:20241111T000000
DTEND;TZID=America/Los_Angeles:20241111T235959
DTSTAMP:20260422T042749
CREATED:20240903T134926Z
LAST-MODIFIED:20240903T135252Z
UID:515-1731283200-1731369599@risemontessori.com
SUMMARY:Veterans Day
DESCRIPTION:Veterans Day
URL:https://risemontessori.com/event/veterans-day/
CATEGORIES:Cultural,Holiday
END:VEVENT
BEGIN:VEVENT
DTSTART;TZID=America/Los_Angeles:20241113T000000
DTEND;TZID=America/Los_Angeles:20241114T235959
DTSTAMP:20260422T042749
CREATED:20240903T135006Z
LAST-MODIFIED:20240903T135303Z
UID:517-1731456000-1731628799@risemontessori.com
SUMMARY:Teacher/volunteer Meeting
DESCRIPTION:Teacher/volunteer Meeting
URL:https://risemontessori.com/event/teacher-volunteer-meeting-2/
CATEGORIES:School
END:VEVENT
BEGIN:VEVENT
DTSTART;TZID=America/Los_Angeles:20241115T000000
DTEND;TZID=America/Los_Angeles:20241115T235959
DTSTAMP:20260422T042749
CREATED:20240903T135048Z
LAST-MODIFIED:20240903T135311Z
UID:519-1731628800-1731715199@risemontessori.com
SUMMARY:Parent Conf/Education\, (STUDENTS PRESENT)
DESCRIPTION:Parent Conf/Education\, (STUDENTS PRESENT)
URL:https://risemontessori.com/event/parent-conf-education-students-present/
CATEGORIES:Parents,School
END:VEVENT
BEGIN:VEVENT
DTSTART;TZID=America/Los_Angeles:20241128T080000
DTEND;TZID=America/Los_Angeles:20241129T170000
DTSTAMP:20260422T042749
CREATED:20240903T135658Z
LAST-MODIFIED:20240903T135710Z
UID:521-1732780800-1732899600@risemontessori.com
SUMMARY:Thanksgiving (Holiday)
DESCRIPTION:Thanksgiving (Holiday)
URL:https://risemontessori.com/event/thanksgiving-holiday/
CATEGORIES:Cultural,Holiday
END:VEVENT
END:VCALENDAR